Workbook

Sheet PR
A2: PRZEDMIAR ROBÓT
A3: Przebudowa i rozbudowa drogi dojazdowej przy Urzędzie Gminy w Rogowie - ETAP 1
A5: Lp | B5: Nr ST Kod poz. Przedmiaru | C5: Wyszczególnienie elementów rozliczeniowych | D5: Jednostka
D6: Naz | E6: Ilość
A7: 1 | B7: 2 | C7: 4 | D7: =1+C7 -> 5 | E7: =1+D7 -> 6
A8: x | B8: x | C8: ROBOTY PRZYGOTOWAWCZE | D8: x | E8: x
A9: 1 | B9: D.01.01.01 | C9: Odtworzenie trasy i punktów wysokościowych przy robotach liniowych w terenie równinnym | D9: km | E9: 0.09
A10: 2 | B10: D.01.03.02 | C10: Rozbiórka nawierzchni z trylinki | D10: m2 | E10: 105
A11: 3 | B11: D.01.03.02 | C11: Rozbiórka i przestawienie ogrodzenia | D11: m | E11: 45
A12: 4 | B12: D.01.03.02 | C12: Rozbiórka i przestawienie garażu z blachy | D12: szt. | E12: 1
A13: 5 | B13: D.01.03.02 | C13: Rozbiórka nawierzchni asfaltowej | D13: m2 | E13: 145
A14: 6 | B14: D.01.03.02 | C14: Rozbiórka nawierzchni z betonu cementowego | D14: m2 | E14: 40
A15: x | B15: x | C15: ROBOTY ZIEMNE | D15: x | E15: x
A16: 7 | B16: D.02.01.01 | C16: Wykonanie wykopów w gruntach nieskalistych | D16: m3 | E16: 350
A17: 8 | B17: D.02.03.01 | C17: Wykonanie nasypów | D17: m3 | E17: 10
A18: x | B18: x | C18: PODBUDOWY | D18: x | E18: x
A19: 9 | B19: D.04.01.01 | C19: Profilowanie i zagęszczanie podłoża wykonywane mechanicznie pod warstwy konstrukcyjne nawierzchni,wykonywane mechanicznie - jezdnia i miejsca potojowe | D19: m2 | E19: =E26 -> 760
A20: 10 | B20: D.04.01.01 | C20: Profilowanie i zagęszczanie podłoża wykonywane mechanicznie pod warstwy konstrukcyjne nawierzchni,wykonywane mechanicznie - zjazdy | D20: m2 | E20: =E27 -> 35
A21: 11 | B21: D.04.02.01 | C21: Wykonanie warstwy odsączającej piasku o gr. 15cm - jezdnia i miejsca postojowe | D21: m2 | E21: =E26 -> 760
A22: 12 | B22: D.04.02.01 | C22: Wykonanie warstwy odsączającej piasku o gr. 15cm - zjazdy | D22: m2 | E22: =E27 -> 35
A23: 13 | B23: D.04.04.02 | C23: Podbudowa z mieszanki niewiązanej - kruszywo łamane 0/31,5 gr.20cm - jezdnia i miejsca postojowe | D23: m2 | E23: =E26 -> 760
A24: 14 | B24: D.04.04.02 | C24: Podbudowa z mieszanki niewiązanej - kruszywo łamane 0/31,5 gr.20cm - zjazdy | D24: m2 | E24: =E27 -> 35
A25: x | B25: x | C25: NAWIERZCHNIE | D25: x | E25: x
A26: 15 | B26: D.05.03.23 | C26: Nawierzchnia z kostki betonowej (szarej) gr. 8 cm na podsypce cementowo - piaskowej - jezdnia i miejsca postojowe | D26: m2 | E26: 760
A27: 16 | B27: D.05.03.23 | C27: Nawierzchnia z kostki betonowej (szarej) gr. 8 cm na podsypce cementowo - piaskowej - zjazdy | D27: m2 | E27: 35
A28: x | B28: x | C28: OZNAKOWANIE PIONOWE | D28: x | E28: x
A29: 17 | B29: D.07.02.01 | C29: Ustawienie słupków do znaków z rur stalowych o średnicy 50mm | D29: szt. | E29: 2
A30: 18 | B30: D.07.02.01 | C30: Przymocowanie tarcz znaków do słupków | D30: szt. | E30: 2
A31: x | B31: x | C31: ELEMENTY ULIC | D31: x | E31: x
A32: 20 | B32: D.08.01.01 | C32: Ustawienie krawężników betonowych o wym. 15x22cm na ławie z oporem z betonu C12/15 - jezdnia, zjazdy | D32: m | E32: 184
A33: =A32+1 -> 21 | B33: D.08.01.01 | C33: Ustawienie oporników betonowych o wym. 12x25cm na ławie z oporem z betonu C12/15 - zjazdy z kostki betonowej | D33: m | E33: 92
A34: x | B34: x | C34: INNE ROBOTY | D34: x | E34: x
A35: 22 | B35: D.01.01.01 | C35: Wykonanie inwentaryzacji powykonawczej | D35: km | E35: =E9 -> 0.09
A36: =A35+1 -> 23 | B36: D.07.07.01 | C36: Montaż rury osłonowej dwudzielnej HDPE Ø 110mm na kablach energetycznych lub teletechnicznych wraz z wykopami i zasypaniem | D36: m | E36: 175
A37: =A36+1 -> 24 | B37: D.10.08.01 | C37: Regulacja wysokościowa studni kanalizacyjnych | D37: szt. | E37: 2
A38: =A37+1 -> 25 | B38: D.10.08.01 | C38: Regulacja wysokościowa studni telekomunikacyjnych | D38: szt. | E38: 3

Sheet Tabela_elementow_scalonych
A1: KOSZTORYS INWESTORSKI
A2: Przebudowa i rozbudowa drogi dojazdowej przy Urzędzie Gminy w Rogowie - ETAP 1
A3: TABELA ELEMENTÓW SCALONYCH
A4: Lp. | B4: Element scalony | C4: Wartość netto
A5: 1 | B5: ROBOTY PRZYGOTOWAWCZE | C5: =KI!G9+KI!G10+KI!G11+KI!G12+KI!G13+KI!G14 -> 8372.5
A6: =A5+1 -> 2 | B6: ROBOTY ZIEMNE | C6: =KI!G16+KI!G17 -> 6940
A7: =A6+1 -> 3 | B7: PODBUDOWY | C7: =KI!G19+KI!G20+KI!G21+KI!G22+KI!G23+KI!G24 -> 23571.75
A8: =A7+1 -> 4 | B8: NAWIERZCHNIE | C8: =KI!G26+KI!G27 -> 48495
A9: =A8+1 -> 5 | B9: OZNAKOWANIE PIONOWE | C9: =KI!G29+KI!G30 -> 469.5
A10: =A9+1 -> 6 | B10: ELEMENTY ULIC | C10: =KI!G32+KI!G33 -> 9016
A11: =A10+1 -> 7 | B11: INNE ROBOTY | C11: =KI!G35+KI!G36+KI!G37+KI!G38 -> 7030
B13: Wartość netto | C13: =SUM(C5:C11) -> 103894.75
B14: Vat 23% | C14: =C13*0.23 -> 23895.79
B15: Wartość brutto | C15: =C13+C14 -> 127790.54
E20: =14*7 -> 98 | F20: 450
C49: Ustawienie oznakowania aktywnego przejść dla pieszych zasilanego energią słoneczną i wiatrową | E49: 46
E50: 54
B63: D.01.01.01
B64: D.10.08.01
B65: D.10.08.01
B66: D.07.07.01

Sheet KI
A2: KOSZTORYS INWESTORSKI
A3: Przebudowa i rozbudowa drogi dojazdowej przy Urzędzie Gminy w Rogowie - ETAP 1
A5: Lp | B5: Nr ST Kod poz. Przedmiaru | C5: Wyszczególnienie elementów rozliczeniowych | D5: Jednostka | F5: Cena jednostkowa (zł) | G5: Wartość pozycji (zł)
D6: Naz | E6: Ilość
A7: 1 | B7: 2 | C7: 4 | D7: =1+C7 -> 5 | E7: =1+D7 -> 6 | F7: 6 | G7: =1+F7 -> 7
A8: x | B8: x | C8: ROBOTY PRZYGOTOWAWCZE | D8: x | E8: x | F8: x | G8: x
A9: 1 | B9: D.01.01.01 | C9: Odtworzenie trasy i punktów wysokościowych przy robotach liniowych w terenie równinnym | D9: km | E9: 0.09 | F9: 3500 | G9: =E9*F9 -> 315
A10: 2 | B10: D.01.03.02 | C10: Rozbiórka nawierzchni z trylinki | D10: m2 | E10: 105 | F10: 3.5 | G10: =E10*F10 -> 367.5
A11: 3 | B11: D.01.03.02 | C11: Rozbiórka i przestawienie ogrodzenia | D11: m | E11: 45 | F11: 25 | G11: =E11*F11 -> 1125
A12: 4 | B12: D.01.03.02 | C12: Rozbiórka i przestawienie garażu z blachy | D12: szt. | E12: 1 | F12: 1500 | G12: =E12*F12 -> 1500
A13: 5 | B13: D.01.03.02 | C13: Rozbiórka nawierzchni asfaltowej | D13: m2 | E13: 145 | F13: 25 | G13: =E13*F13 -> 3625
A14: 6 | B14: D.01.03.02 | C14: Rozbiórka nawierzchni z betonu cementowego | D14: m2 | E14: 40 | F14: 36 | G14: =E14*F14 -> 1440
A15: x | B15: x | C15: ROBOTY ZIEMNE | D15: x | E15: x | F15: x | G15: x
A16: 7 | B16: D.02.01.01 | C16: Wykonanie wykopów w gruntach nieskalistych | D16: m3 | E16: 350 | F16: 19 | G16: =E16*F16 -> 6650
A17: 8 | B17: D.02.03.01 | C17: Wykonanie nasypów | D17: m3 | E17: 10 | F17: 29 | G17: =E17*F17 -> 290
A18: x | B18: x | C18: PODBUDOWY | D18: x | E18: x | F18: x | G18: x
A19: 9 | B19: D.04.01.01 | C19: Profilowanie i zagęszczanie podłoża wykonywane mechanicznie pod warstwy konstrukcyjne nawierzchni,wykonywane mechanicznie - jezdnia i miejsca potojowe | D19: m2 | E19: =E26 -> 760 | F19: 2.15 | G19: =E19*F19 -> 1634
A20: 10 | B20: D.04.01.01 | C20: Profilowanie i zagęszczanie podłoża wykonywane mechanicznie pod warstwy konstrukcyjne nawierzchni,wykonywane mechanicznie - zjazdy | D20: m2 | E20: =E27 -> 35 | F20: 2.15 | G20: =E20*F20 -> 75.25
A21: 11 | B21: D.04.02.01 | C21: Wykonanie warstwy odsączającej piasku o gr. 15cm - jezdnia i miejsca postojowe | D21: m2 | E21: =E26 -> 760 | F21: 4.5 | G21: =E21*F21 -> 3420
A22: 12 | B22: D.04.02.01 | C22: Wykonanie warstwy odsączającej piasku o gr. 15cm - zjazdy | D22: m2 | E22: =E27 -> 35 | F22: 4.5 | G22: =E22*F22 -> 157.5
A23: 13 | B23: D.04.04.02 | C23: Podbudowa z mieszanki niewiązanej - kruszywo łamane 0/31,5 gr.20cm - jezdnia i miejsca postojowe | D23: m2 | E23: =E26 -> 760 | F23: 23 | G23: =E23*F23 -> 17480
A24: 14 | B24: D.04.04.02 | C24: Podbudowa z mieszanki niewiązanej - kruszywo łamane 0/31,5 gr.20cm - zjazdy | D24: m2 | E24: =E27 -> 35 | F24: 23 | G24: =E24*F24 -> 805
A25: x | B25: x | C25: NAWIERZCHNIE | D25: x | E25: x | F25: x | G25: x
A26: 15 | B26: D.05.03.23 | C26: Nawierzchnia z kostki betonowej (szarej) gr. 8 cm na podsypce cementowo - piaskowej - jezdnia i miejsca postojowe | D26: m2 | E26: 760 | F26: 61 | G26: =E26*F26 -> 46360
A27: 16 | B27: D.05.03.23 | C27: Nawierzchnia z kostki betonowej (szarej) gr. 8 cm na podsypce cementowo - piaskowej - zjazdy | D27: m2 | E27: 35 | F27: 61 | G27: =E27*F27 -> 2135
A28: x | B28: x | C28: OZNAKOWANIE PIONOWE | D28: x | E28: x | F28: x | G28: x
A29: 17 | B29: D.07.02.01 | C29: Ustawienie słupków do znaków z rur stalowych o średnicy 50mm | D29: szt. | E29: 2 | F29: 115.75 | G29: =E29*F29 -> 231.5
A30: 18 | B30: D.07.02.01 | C30: Przymocowanie tarcz znaków do słupków | D30: szt. | E30: 2 | F30: 119 | G30: =E30*F30 -> 238
A31: x | B31: x | C31: ELEMENTY ULIC | D31: x | E31: x | F31: x | G31: x
A32: 20 | B32: D.08.01.01 | C32: Ustawienie krawężników betonowych o wym. 15x22cm na ławie z oporem z betonu C12/15 - jezdnia, zjazdy | D32: m | E32: 184 | F32: 35 | G32: =E32*F32 -> 6440
A33: =A32+1 -> 21 | B33: D.08.01.01 | C33: Ustawienie oporników betonowych o wym. 12x25cm na ławie z oporem z betonu C12/15 - zjazdy z kostki betonowej | D33: m | E33: 92 | F33: 28 | G33: =E33*F33 -> 2576
A34: x | B34: x | C34: INNE ROBOTY | D34: x | E34: x | F34: x | G34: x
A35: 22 | B35: D.01.01.01 | C35: Wykonanie inwentaryzacji powykonawczej | D35: km | E35: =E9 -> 0.09 | F35: 3500 | G35: =E35*F35 -> 315
A36: =A35+1 -> 23 | B36: D.07.07.01 | C36: Montaż rury osłonowej dwudzielnej HDPE Ø 110mm na kablach energetycznych lub teletechnicznych wraz z wykopami i zasypaniem | D36: m | E36: 175 | F36: 29 | G36: =E36*F36 -> 5075
A37: =A36+1 -> 24 | B37: D.10.08.01 | C37: Regulacja wysokościowa studni kanalizacyjnych | D37: szt. | E37: 2 | F37: 295 | G37: =E37*F37 -> 590
A38: =A37+1 -> 25 | B38: D.10.08.01 | C38: Regulacja wysokościowa studni telekomunikacyjnych | D38: szt. | E38: 3 | F38: 350 | G38: =E38*F38 -> 1050
F40: Wartość netto | G40: =SUM(G9:G38) -> 103894.75
F41: VAT 23% | G41: =G40*0.23 -> 23895.79
F42: Wartość brutto | G42: =G40+G41 -> 127790.54

Sheet KO
A2: PRZEDMIAR ROBÓT
A3: Budowa drogi dojazdowej przy Urzędzie Gminy w Rogowie - Etap 1
A5: Lp | B5: Nr ST Kod poz. Przedmiaru | C5: Wyszczególnienie elementów rozliczeniowych | D5: Jednostka
D6: Naz | E6: Ilość
A7: 1 | B7: 2 | C7: 4 | D7: =1+C7 -> 5 | E7: =1+D7 -> 6
A8: x | B8: x | C8: ROBOTY PRZYGOTOWAWCZE | D8: x | E8: x
A9: 1 | B9: D.01.01.01 | C9: Odtworzenie trasy i punktów wysokościowych przy robotach liniowych w terenie równinnym | D9: km | E9: 0.09
A10: 2 | B10: D.01.03.02 | C10: Rozbiórka nawierzchni z trylinki | D10: m2 | E10: 105
A11: 3 | B11: D.01.03.02 | C11: Rozbiórka i przestawienie ogrodzenia | D11: m | E11: 45
A12: 4 | B12: D.01.03.02 | C12: Rozbiórka i przestawienie garażu z blachy | D12: szt. | E12: 1
A13: 5 | B13: D.01.03.02 | C13: Rozbiórka nawierzchni asfaltowej | D13: m2 | E13: 145
A14: 6 | B14: D.01.03.02 | C14: Rozbiórka nawierzchni z betonu cementowego | D14: m2 | E14: 40
A15: x | B15: x | C15: ROBOTY ZIEMNE | D15: x | E15: x
A16: 7 | B16: D.02.01.01 | C16: Wykonanie wykopów w gruntach nieskalistych | D16: m3 | E16: 350
A17: 8 | B17: D.02.03.01 | C17: Wykonanie nasypów | D17: m3 | E17: 10
A18: x | B18: x | C18: PODBUDOWY | D18: x | E18: x
A19: 9 | B19: D.04.01.01 | C19: Profilowanie i zagęszczanie podłoża wykonywane mechanicznie pod warstwy konstrukcyjne nawierzchni,wykonywane mechanicznie - jezdnia i miejsca potojowe | D19: m2 | E19: =E26 -> 760
A20: 10 | B20: D.04.01.01 | C20: Profilowanie i zagęszczanie podłoża wykonywane mechanicznie pod warstwy konstrukcyjne nawierzchni,wykonywane mechanicznie - zjazdy | D20: m2 | E20: =E27 -> 35
A21: 11 | B21: D.04.02.01 | C21: Wykonanie warstwy odsączającej piasku o gr. 15cm - jezdnia i miejsca postojowe | D21: m2 | E21: =E26 -> 760
A22: 12 | B22: D.04.02.01 | C22: Wykonanie warstwy odsączającej piasku o gr. 15cm - zjazdy | D22: m2 | E22: =E27 -> 35
A23: 13 | B23: D.04.04.02 | C23: Podbudowa z mieszanki niewiązanej - kruszywo łamane 0/31,5 gr.20cm - jezdnia i miejsca postojowe | D23: m2 | E23: =E26 -> 760
A24: 14 | B24: D.04.04.02 | C24: Podbudowa z mieszanki niewiązanej - kruszywo łamane 0/31,5 gr.20cm - zjazdy | D24: m2 | E24: =E27 -> 35
A25: x | B25: x | C25: NAWIERZCHNIE | D25: x | E25: x
A26: 15 | B26: D.05.03.23 | C26: Nawierzchnia z kostki betonowej (szarej) gr. 8 cm na podsypce cementowo - piaskowej - jezdnia i miejsca postojowe | D26: m2 | E26: 760
A27: 16 | B27: D.05.03.23 | C27: Nawierzchnia z kostki betonowej (szarej) gr. 8 cm na podsypce cementowo - piaskowej - zjazdy | D27: m2 | E27: 35
A28: x | B28: x | C28: OZNAKOWANIE PIONOWE | D28: x | E28: x
A29: 17 | B29: D.07.02.01 | C29: Ustawienie słupków do znaków z rur stalowych o średnicy 50mm | D29: szt. | E29: 2
A30: 18 | B30: D.07.02.01 | C30: Przymocowanie tarcz znaków do słupków | D30: szt. | E30: 2
A31: x | B31: x | C31: ELEMENTY ULIC | D31: x | E31: x
A32: 20 | B32: D.08.01.01 | C32: Ustawienie krawężników betonowych o wym. 15x22cm na ławie z oporem z betonu C12/15 - jezdnia, zjazdy | D32: m | E32: 184
A33: =A32+1 -> 21 | B33: D.08.01.01 | C33: Ustawienie oporników betonowych o wym. 12x25cm na ławie z oporem z betonu C12/15 - zjazdy z kostki betonowej | D33: m | E33: 92
A34: x | B34: x | C34: INNE ROBOTY | D34: x | E34: x
A35: 22 | B35: D.01.01.01 | C35: Wykonanie inwentaryzacji powykonawczej | D35: km | E35: =E9 -> 0.09
A36: =A35+1 -> 23 | B36: D.07.07.01 | C36: Montaż rury osłonowej dwudzielnej HDPE Ø 110mm na kablach energetycznych lub teletechnicznych wraz z wykopami i zasypaniem | D36: m | E36: 175
A37: =A36+1 -> 24 | B37: D.10.08.01 | C37: Regulacja wysokościowa studni kanalizacyjnych | D37: szt. | E37: 2
A38: =A37+1 -> 25 | B38: D.10.08.01 | C38: Regulacja wysokościowa studni telekomunikacyjnych | D38: szt. | E38: 3

Sheet Arkusz1
A1: W | B1: N | C1: L | D1: VW | E1: VN
A2: 4.6 | B2: 0 | C2: 0
A3: 3.85 | B3: 0 | C3: 10 | D3: =((A2+A3)/2)*(C3-C2) -> 42.25 | E3: =((B2+B3)/2)*(C3-C2) -> 0
A4: 3.93 | B4: 0 | C4: 20 | D4: =((A3+A4)/2)*(C4-C3) -> 38.9 | E4: =((B3+B4)/2)*(C4-C3) -> 0
A5: 2.7 | B5: 0 | C5: 30 | D5: =((A4+A5)/2)*(C5-C4) -> 33.15 | E5: =((B4+B5)/2)*(C5-C4) -> 0
A6: 2.84 | B6: 0.05 | C6: 40 | D6: =((A5+A6)/2)*(C6-C5) -> 27.7 | E6: =((B5+B6)/2)*(C6-C5) -> 0.25
A7: 5 | B7: 0 | C7: 50 | D7: =((A6+A7)/2)*(C7-C6) -> 39.2 | E7: =((B6+B7)/2)*(C7-C6) -> 0.25
A8: 3.2 | B8: 0 | C8: 60 | D8: =((A7+A8)/2)*(C8-C7) -> 41 | E8: =((B7+B8)/2)*(C8-C7) -> 0
A9: 4.8 | B9: 0 | C9: 70 | D9: =((A8+A9)/2)*(C9-C8) -> 40 | E9: =((B8+B9)/2)*(C9-C8) -> 0
A10: 4.4 | B10: 0.4 | C10: 80 | D10: =((A9+A10)/2)*(C10-C9) -> 46 | E10: =((B9+B10)/2)*(C10-C9) -> 2
A11: 4.19 | B11: 0.5 | C11: 90 | D11: =((A10+A11)/2)*(C11-C10) -> 42.95 | E11: =((B10+B11)/2)*(C11-C10) -> 4.5
D13: =SUM(D3:D12) -> 351.15 | E13: =SUM(E3:E12) -> 7
